BEGIN:VCALENDAR
VERSION:2.0
PRODID:-//Wortley Pride - ECPv6.15.12.2//NONSGML v1.0//EN
CALSCALE:GREGORIAN
METHOD:PUBLISH
X-WR-CALNAME:Wortley Pride
X-ORIGINAL-URL:https://wortleypride.com
X-WR-CALDESC:Events for Wortley Pride
REFRESH-INTERVAL;VALUE=DURATION:PT1H
X-Robots-Tag:noindex
X-PUBLISHED-TTL:PT1H
BEGIN:VTIMEZONE
TZID:America/Toronto
BEGIN:DAYLIGHT
TZOFFSETFROM:-0500
TZOFFSETTO:-0400
TZNAME:EDT
DTSTART:20240310T070000
END:DAYLIGHT
BEGIN:STANDARD
TZOFFSETFROM:-0400
TZOFFSETTO:-0500
TZNAME:EST
DTSTART:20241103T060000
END:STANDARD
BEGIN:DAYLIGHT
TZOFFSETFROM:-0500
TZOFFSETTO:-0400
TZNAME:EDT
DTSTART:20250309T070000
END:DAYLIGHT
BEGIN:STANDARD
TZOFFSETFROM:-0400
TZOFFSETTO:-0500
TZNAME:EST
DTSTART:20251102T060000
END:STANDARD
BEGIN:DAYLIGHT
TZOFFSETFROM:-0500
TZOFFSETTO:-0400
TZNAME:EDT
DTSTART:20260308T070000
END:DAYLIGHT
BEGIN:STANDARD
TZOFFSETFROM:-0400
TZOFFSETTO:-0500
TZNAME:EST
DTSTART:20261101T060000
END:STANDARD
END:VTIMEZONE
BEGIN:VEVENT
DTSTART;TZID=America/Toronto:20251010T183000
DTEND;TZID=America/Toronto:20251010T230000
DTSTAMP:20260420T094319
CREATED:20250624T214921Z
LAST-MODIFIED:20251001T225728Z
UID:1873-1760121000-1760137200@wortleypride.com
SUMMARY:Annual Halloween Double Feature Fundraiser
DESCRIPTION:Get ready for another unforgettable night of costumes\, community\, and queer joy at Wortley Pride’s Annual Halloween Double Feature Fundraiser! \nThe night will feature an incredible lineup of drag performers\, bringing you over-the-top performances\, fierce looks\, and all the spooky season energy you love. \n✨ Performers include:Seyoncé Knows • Lillith Nox • Poison • Brattery Acid • Panic! • Mister Sister • Lavender Skyes • Lucy Bead • Babe Blade \nLocation: Goodwill Industries\, 255 Horton St. EDate: Friday\, October 10\, 2025 \nAll Ages Halloween Drag Show Tickets – $1018+ Halloween Drag Show Tickets – $15 \n🎭 Costumes encouraged • Sober event • Raffle prizes • 2SLGBTQIA+ positive space • Everyone welcome🌈 Proceeds support Wortley Pride
URL:https://wortleypride.com/event/wortley-pride-halloween-events/
LOCATION:Goodwill Industries (3rd Floor)\, 255 Horton Street\, London\, Ontario\, N6B 1L1\, Canada
CATEGORIES:Community
ATTACH;FMTTYPE=image/jpeg:https://wortleypride.com/wp-content/uploads/2025/06/2415374475961154153.jpg
ORGANIZER;CN="Wortley Pride":MAILTO:wortleypridelondon@gmail.com
END:VEVENT
BEGIN:VEVENT
DTSTART;TZID=America/Toronto:20251030T183000
DTEND;TZID=America/Toronto:20251030T193000
DTSTAMP:20260420T094319
CREATED:20251017T142725Z
LAST-MODIFIED:20251027T180939Z
UID:1985-1761849000-1761852600@wortleypride.com
SUMMARY:Open Hearts\, Open Minds – Community Presentation
DESCRIPTION:You’re invited to a heartfelt evening of learning and connection! \nWortley Pride presents: Open Hearts\, Open Minds\nWhere: Landon Library\, Wortley Village\nWhen: Wednesday\, October 30th\nTime: Doors open at 6:30 PM | Program starts at 6:45 PM | Wraps by 7:30 PM \nJoin us for a moderated conversation with Kathleen Holland as we share updates\, stories\, and the spirit behind Wortley Pride’s work. To ensure a safe and inclusive space for all\, questions will not be taken from the floor — All questions submitted in advance using the form below⁩ by October 27th at 12 noon will be answered. \nLet’s gather with open hearts and open minds. We can’t wait to see you there
URL:https://wortleypride.com/event/open-hearts-open-minds-community-presentation/
LOCATION:Landon Library
ATTACH;FMTTYPE=image/jpeg:https://wortleypride.com/wp-content/uploads/2025/10/att.4DGnP1xhsFv-x71eWr7nQ60Djnku12LQy6ZmdIVtAEg.jpg
END:VEVENT
END:VCALENDAR